BEGIN:VCALENDAR
VERSION:2.0
PRODID:-//InLAN - ECPv4.4.2//NONSGML v1.0//EN
CALSCALE:GREGORIAN
METHOD:PUBLISH
X-WR-CALNAME:InLAN
X-ORIGINAL-URL:https://inlan.net.au
X-WR-CALDESC:Events for InLAN
BEGIN:VEVENT
DTSTART;TZID=Australia/Adelaide:20150404T100000
DTEND;TZID=Australia/Adelaide:20150404T233000
DTSTAMP:20210224T103215
CREATED:20150315T082509Z
LAST-MODIFIED:20150315T082509Z
UID:391-1428141600-1428190200@inlan.net.au
SUMMARY:InLAN: PANCAKE EASTER
DESCRIPTION:EASTER :D\n\nTo celebrate the long weekend we will be having pancakes for dinner and dessert. A BBQ Lunch and drinks will also be provided with you entry ticket. Extra drinks and snack can be purchased at the event.\n\nWe have yet to decide on a game to highlight for the event so if there was something you play that you would like to see more people join let us know and we'll look into it. Be prepared thou\, you may have to present your suggestion :D\n\nEvent is at the Blackwood Hills Baptist Church Chapel.\n\n\tGames that will be likely to be played at the event:\n\tWorld of Tanks\n\tGuild Wars 2\n\tPayday 2\n\tEVE Online\n\tTeam Fortress 2\n\tWarcraft 3: The Frozen Throne\n\tStarcraft 2\n\tHearthstone\n\tCiv IV/V\n\tDOTA 2\n\tCounter-Strike: Global Offensive\n\tMass Effect 3\n\tLeague of Legends\n\tGrand Theft Auto IV\n\tand more\n\nEvent rules can be found here\n\nWhat to bring to and event can be found here
URL:https://inlan.net.au/event/inlan-pancake-easter/
LOCATION:72 Coromandel Pde\, Blackwood\, SA\, 5051\, Australia
END:VEVENT
END:VCALENDAR